{"text_format":"1","workbook":"xlsx","n_sheets":4,"sheets":["入力シート","提出者(控)","作業所 ","経理"],"not_rendered":{"charts":0,"images":0,"macros":1,"external_links":0,"defined_names":3,"comments":2,"pivot_tables":0},"unopened":[],"bounds":{"document_bytes":16777216,"sheet_cells":100000,"rows_first":2000,"rows_last":500,"rows_between":2000,"halvings":0,"cell_chars":16384,"cell_head_chars":4096},"cells_cut":0,"cells_raw":0,"read":"whole","date_system":"1900"}

{"sheet":"入力シート","index":0,"n_rows":26,"n_cols":5,"rows_kept":26,"cut":false,"hidden":false,"merged":[]}
["株式会社　田中組　御中",null,null,"請求日"]
[null,null,null,"令和〇〇年〇〇月〇〇日"]
["作業所名"]
["取引先CD",null,"④請求金額",null,"（税込）"]
["登録番号(13桁)",null,"①契約金額",null,"（税込）"]
["免税事業者",null,"②今月迄の出来高金額",null,"（税込）"]
["住所",null,"③現在迄の受領額",null,"（税込）"]
["名称",null,"④今月の請求金額（②-③）",{"$f":"D6-D7","v":0},"（税込）"]
["代表者名",null,"⑤今月立替金",null,"（税込）"]
["電話番号",null,"⑥差引当月請求額（④-⑤）",{"$f":"D8-D9","v":0},"（税込）"]
["銀行名",null,"⑦今後請求残額（①-③-④）",{"$f":"D5-D7-D8","v":0},"（税込）"]
["支店名"]
["預金種類"]
["口座番号"]
["（フリガナ）"]
["口座名"]
[]
["(1)","入力シート、提出者(控）の色付きセルに必要事項を入力して下さい。"]
["(2)","作業所別に入力、提出して下さい。"]
["(3)","請求書は納入の都度又は月末〆切、翌月2日迄担当作業所に提出して下さい。"]
[null,"〆切後の請求並びに提出期限後の受付分は翌月廻しになります。",null,null,"免税"]
["(4)","請求書は3枚1組で提出者(控)・田中組宛提出2枚(作業所控・経理課用)となります。"]
["(5)","貴社の代表者、住所、金融機関の変更があった場合はご連絡下さい。",null,"【お問い合わせ先】"]
["(6)","振込手数料は当社（田中組）負担とし、控除せずお支払いいたします。",null,"本社経理課","011-611-3334"]
[null,null,null,"建築工務課","011-611-3339"]
[null,null,null,"土木工務課","011-611-3337"]

{"sheet":"提出者(控)","index":1,"n_rows":51,"n_cols":67,"rows_kept":51,"cut":false,"hidden":false,"merged":[[19,14,20,21],[21,6,22,25],[17,1,20,4],[21,1,22,4],[15,1,16,4],[15,5,16,21],[17,22,20,25],[17,5,18,5],[19,5,20,5],[21,5,22,5],[17,6,18,13],[17,14,18,21],[19,6,20,13],[7,5,8,21],[9,5,10,21],[11,5,12,21],[13,5,14,21],[5,42,6,42],[5,43,6,48],[5,49,6,57],[14,27,14,32],[14,46,14,47],[0,2,1,3],[0,5,1,12],[0,14,1,16],[0,28,1,39],[2,1,3,4],[2,5,3,23],[5,1,6,6],[5,7,6,12],[5,13,6,18],[5,19,6,23],[5,26,6,26],[5,27,6,32],[5,33,6,41],[15,42,15,57],[5,61,7,64],[5,65,10,66],[6,24,6,25],[7,1,10,4],[7,26,8,26],[8,61,10,64],[9,26,10,26],[9,27,9,32],[9,33,10,41],[9,42,10,42],[9,43,9,48],[9,49,10,57],[10,27,10,32],[10,43,10,48],[7,27,8,32],[7,33,8,41],[7,42,8,42],[7,43,7,48],[7,49,8,57],[8,43,8,48],[5,59,10,60],[11,22,14,25],[7,22,10,25],[11,1,14,4],[11,26,12,26],[11,27,11,32],[17,65,22,66],[20,61,22,64],[16,26,22,41],[16,42,22,57],[11,65,16,66],[11,33,12,41],[12,27,12,32],[13,26,14,26],[13,27,13,32],[13,33,14,41],[14,61,16,64],[15,22,16,25],[15,26,15,41],[11,42,14,44],[11,45,11,48],[11,49,12,57],[11,59,16,60],[11,61,13,64],[12,46,12,47],[13,45,13,48],[13,49,14,57],[24,1,25,4],[24,5,25,22],[24,23,25,28],[17,59,22,60],[17,61,19,64],[24,29,25,31],[24,32,25,38],[24,39,25,46],[24,47,25,57],[24,59,29,66],[26,1,27,4],[26,5,27,22],[26,23,27,28],[26,29,27,31],[26,32,27,38],[26,39,27,46],[26,47,27,57],[28,1,29,4],[28,5,29,22],[28,23,29,28],[28,29,29,31],[28,32,29,38],[28,39,29,46],[28,47,29,57],[30,47,31,57],[30,59,34,60],[30,61,34,66],[32,1,33,4],[32,5,33,22],[32,23,33,28],[32,29,33,31],[32,32,33,38],[32,39,33,46],[32,47,33,57],[30,1,31,4],[30,5,31,22],[30,23,31,28],[30,29,31,31],[30,32,31,38],[30,39,31,46],[34,47,35,57],[35,59,39,60],[35,61,39,66],[36,1,37,4],[36,5,37,22],[36,23,37,28],[36,29,37,31],[36,32,37,38],[36,39,37,46],[36,47,37,57],[34,1,35,4],[34,5,35,22],[34,23,35,28],[34,29,35,31],[34,32,35,38],[34,39,35,46],[38,47,39,57],[40,1,41,4],[40,5,41,22],[40,23,41,28],[40,29,41,31],[40,32,41,38],[40,39,41,46],[40,47,41,57],[38,1,39,4],[38,5,39,22],[38,23,39,28],[38,29,39,31],[38,32,39,38],[38,39,39,46],[43,1,44,8],[43,9,44,14],[43,15,44,18],[43,19,44,24],[43,25,44,28],[43,30,44,37],[43,38,44,43],[43,44,44,47],[43,48,44,53],[45,25,46,28],[45,30,46,37],[45,38,46,43],[45,44,46,47],[45,48,46,53],[40,59,44,60],[40,61,44,66],[43,54,44,57],[45,61,49,66],[45,54,46,57],[47,1,48,8],[47,9,48,14],[47,15,48,18],[47,19,48,24],[47,25,48,28],[47,30,48,37],[49,54,50,57],[50,59,54,60],[50,61,54,66],[51,38,52,43],[51,44,52,47],[51,48,52,53],[51,54,52,57],[47,38,48,43],[47,44,48,47],[47,48,48,53],[47,54,48,57],[51,1,52,8],[51,9,52,14],[51,15,52,18],[51,19,52,24],[45,59,49,60],[45,15,46,18],[45,19,46,24],[45,1,46,8],[45,9,46,14],[2,53,3,66],[53,38,54,43],[53,44,54,47],[53,48,54,53],[53,54,54,57],[53,1,54,8],[53,9,54,14],[53,15,54,18],[53,19,54,24],[53,25,54,28],[53,30,54,37],[51,25,52,28],[51,30,52,37],[49,38,50,43],[49,44,50,47],[49,48,50,53],[49,1,50,8],[49,9,50,14],[49,15,50,18],[49,19,50,24],[49,25,50,28],[49,30,50,37]]}
[null,null,"株式\n会社",null,null,"田中組",null,null,null,null,null,null,null,null,"御中",null,null,null,null,null,null,null,null,null,null,null,null,null,"請求書",null,null,null,null,null,null,null,null,null,null,null,null,null,null,null,null,null,null,null,null,null,null,null,null,null,null,null,null,null,null,null,null,null,null,null,null,null,"提　出　者　控"]
[]
[null,"作業所名：",null,null,null,{"$f":"IF(入力シート!B3=0,\" \",入力シート!B3)","v":" "},null,null,null,null,null,null,null,null,null,null,null,null,null,null,null,null,null,null,null,null,null,null,null,null,null,null,null,null,null,null,null,null,null,null,null,null,null,null,null,null,null,null,null,null,null,null,null,{"$f":"IF(入力シート!D2=0,\" \",入力シート!D2)","v":"令和〇〇年〇〇月〇〇日"}]
[]
[]
[null,"取引先CD",null,null,null,null,null,{"$f":"IF(入力シート!B4=0,\" \",入力シート!B4)","v":" "},null,null,null,null,null,"工　事　C　D",null,null,null,null,null,null,null,null,null,null,null,null,"④","請求金額",null,null,null,null,null,{"$f":"入力シート!D4","v":0},null,null,null,null,null,null,null,null,"⑤","今月立替金",null,null,null,null,null,{"$f":"入力シート!D9","v":0},null,null,null,null,null,null,null,null,null,"請求区分",null,"本支店払１"]
[]
[null,"(登録番号)\n\n（住所）",null,null,null,{"$f":"IF(入力シート!B5=0,\" \",\"T\"&入力シート!B5)","v":" "},null,null,null,null,null,null,null,null,null,null,null,null,null,null,null,null,{"$f":"IF(入力シート!B6=0,\" \",\"免\")","v":" "},null,null,null,"①","契約金額",null,null,null,null,null,{"$f":"入力シート!D5","v":0},null,null,null,null,null,null,null,null,"⑥","差引当月④－⑤",null,null,null,null,null,{"$f":"入力シート!D10","v":0}]
[null,null,null,null,null,null,null,null,null,null,null,null,null,null,null,null,null,null,null,null,null,null,null,null,null,null,null,null,null,null,null,null,null,null,null,null,null,null,null,null,null,null,null,"請求額",null,null,null,null,null,null,null,null,null,null,null,null,null,null,null,null,null,"その他空白"]
[null,null,null,null,null,{"$f":"IF(入力シート!B7=0,\" \",入力シート!B7)","v":" "},null,null,null,null,null,null,null,null,null,null,null,null,null,null,null,null,null,null,null,null,"②","今月迄の",null,null,null,null,null,{"$f":"入力シート!D6","v":0},null,null,null,null,null,null,null,null,"⑦","今後①－③－④",null,null,null,null,null,{"$f":"入力シート!D11","v":0}]
[null,null,null,null,null,null,null,null,null,null,null,null,null,null,null,null,null,null,null,null,null,null,null,null,null,null,null,"出来高金額",null,null,null,null,null,null,null,null,null,null,null,null,null,null,null,"請求残額"]
[null,"（名称）",null,null,null,{"$f":"IF(入力シート!B8=0,\" \",入力シート!B8)","v":" "},null,null,null,null,null,null,null,null,null,null,null,null,null,null,null,null,"㊞",null,null,null,"③","現在迄の",null,null,null,null,null,{"$f":"入力シート!D7","v":0},null,null,null,null,null,null,null,null,"支払\n条件",null,null,"手形払",null,null,null,null,null,null,null,null,null,null,null,null,null,"消費税区分",null,"非課税 １"]
[null,null,null,null,null,null,null,null,null,null,null,null,null,null,null,null,null,null,null,null,null,null,null,null,null,null,null,"受領額",null,null,null,null,null,null,null,null,null,null,null,null,null,null,null,null,null,"（","      %",null,"）"]
[null,null,null,null,null,{"$f":"IF(入力シート!B9=0,\" \",入力シート!B9)","v":" "},null,null,null,null,null,null,null,null,null,null,null,null,null,null,null,null,null,null,null,null,"④","今月の②－③",null,null,null,null,null,{"$f":"入力シート!D8","v":0},null,null,null,null,null,null,null,null,null,null,null,"現金払"]
[null,null,null,null,null,null,null,null,null,null,null,null,null,null,null,null,null,null,null,null,null,null,null,null,null,null,null,"請求金額",null,null,null,null,null,null,null,null,null,null,null,null,null,null,null,null,null,"（","      %",null,"）",null,null,null,null,null,null,null,null,null,null,null,null,"課税空白"]
[null,"(TEL)",null,null,null,{"$f":"IF(入力シート!B10=0,\" \",入力シート!B10)","v":" "},null,null,null,null,null,null,null,null,null,null,null,null,null,null,null,null,null,null,null,null,"＜工務・経理使用欄＞",null,null,null,null,null,null,null,null,null,null,null,null,null,null,null,"＜作業所使用欄＞"]
[]
[null,"(振込銀行)",null,null,null,null,{"$f":"IF(入力シート!B11=0,\" \",入力シート!B11)","v":" "},null,null,null,null,null,null,null,{"$f":"IF(入力シート!B12=0,\" \",入力シート!B12)","v":" "},null,null,null,null,null,null,null,null,null,null,null,null,null,null,null,null,null,null,null,null,null,null,null,null,null,null,null,null,null,null,null,null,null,null,null,null,null,null,null,null,null,null,null,null,"保留区分",null,"する１"]
[]
[null,null,null,null,null,null,{"$f":"IF(入力シート!B13=0,\" \",入力シート!B13)","v":" "},null,null,null,null,null,null,null,{"$f":"IF(入力シート!B14=0,\" \",入力シート!B14)","v":" "}]
[null,null,null,null,null,null,null,null,null,null,null,null,null,null,null,null,null,null,null,null,null,null,null,null,null,null,null,null,null,null,null,null,null,null,null,null,null,null,null,null,null,null,null,null,null,null,null,null,null,null,null,null,null,null,null,null,null,null,null,null,null,"その他空白"]
[null,"ﾌﾘｶﾞﾅ\n口座名",null,null,null,null,{"$f":"IF(入力シート!B15=0,\" \",入力シート!B15)","v":" "}]
[]
[]
[null,"月　日",null,null,null,"品名・規格",null,null,null,null,null,null,null,null,null,null,null,null,null,null,null,null,null,"数量",null,null,null,null,null,"単位",null,null,"単価",null,null,null,null,null,null,"金額",null,null,null,null,null,null,null,"備考"]
[]
[null,null,null,null,null,null,null,null,null,null,null,null,null,null,null,null,null,null,null,null,null,null,null,1,null,null,null,null,null,"式"]
[]
[]
[]
[null,null,null,null,null,null,null,null,null,null,null,null,null,null,null,null,null,null,null,null,null,null,null,null,null,null,null,null,null,null,null,null,null,null,null,null,null,null,null,null,null,null,null,null,null,null,null,null,null,null,null,null,null,null,null,null,null,null,null,"経理"]
[]
[]
[]
[]
[null,null,null,null,null,null,null,null,null,null,null,null,null,null,null,null,null,null,null,null,null,null,null,null,null,null,null,null,null,null,null,null,null,null,null,null,null,null,null,null,null,null,null,null,null,null,null,null,null,null,null,null,null,null,null,null,null,null,null,"工務"]
[null,null,null,null,null,"合計",null,null,null,null,null,null,null,null,null,null,null,null,null,null,null,null,null,null,null,null,null,null,null,null,null,null,null,null,null,null,null,null,null,{"$f":"SUM(AN27:AU36)","v":0},null,null,null,null,null,null,null,"（税抜金額）"]
[]
[null,null,null,null,null,"消費税",null,null,null,null,null,null,null,null,null,null,null,null,null,null,null,null,null,null,null,null,null,null,null,"％",null,null,null,null,null,null,null,null,null,{"$f":"ROUNDDOWN(AN37*X39/100,0)","v":0},null,null,null,null,null,null,null,"（消費税額）"]
[]
[null,null,null,null,null,"今月請求額",null,null,null,null,null,null,null,null,null,null,null,null,null,null,null,null,null,null,null,null,null,null,null,null,null,null,null,null,null,null,null,null,null,{"$f":"SUM(AN37:AU40)","v":0},null,null,null,null,null,null,null,"（税込金額）",null,null,null,null,null,null,null,null,null,null,null,"店所"]
[]
[]
[null,"金額",null,null,null,null,null,null,null,"費目名",null,null,null,null,null,"費目CD",null,null,null,"工種名",null,null,null,null,null,"工種CD",null,null,null,null,"金額",null,null,null,null,null,null,null,"費目名",null,null,null,null,null,"費目CD",null,null,null,"工種名",null,null,null,null,null,"工種CD"]
[]
[null,null,null,null,null,null,null,null,null,null,null,null,null,null,null,null,null,null,null,null,null,null,null,null,null,null,null,null,null,null,null,null,null,null,null,null,null,null,null,null,null,null,null,null,null,null,null,null,null,null,null,null,null,null,null,null,null,null,null,"工事長"]
[]
[]
[]
[]
[null,null,null,null,null,null,null,null,null,null,null,null,null,null,null,null,null,null,null,null,null,null,null,null,null,null,null,null,null,null,null,null,null,null,null,null,null,null,null,null,null,null,null,null,null,null,null,null,null,null,null,null,null,null,null,null,null,null,null,"作業所長"]

{"sheet":"作業所 ","index":2,"n_rows":54,"n_cols":67,"rows_kept":54,"cut":false,"hidden":false,"merged":[[49,1,50,8],[49,13,50,18],[36,32,37,38],[24,1,25,4],[24,5,25,22],[24,23,25,28],[17,22,20,25],[53,1,54,8],[53,13,54,18],[53,9,54,12],[53,23,54,28],[53,19,54,22],[53,30,54,37],[51,1,52,8],[51,13,52,18],[51,9,52,12],[51,23,52,28],[51,19,52,22],[51,30,52,37],[38,1,39,4],[38,5,39,22],[38,23,39,28],[38,29,39,31],[38,32,39,38],[51,42,52,47],[51,38,52,41],[51,52,52,57],[51,48,52,51],[47,42,48,47],[47,38,48,41],[47,52,48,57],[47,48,48,51],[53,42,54,47],[53,38,54,41],[53,52,54,57],[53,48,54,51],[49,42,50,47],[49,38,50,41],[49,52,50,57],[49,48,50,51],[45,52,46,57],[45,48,46,51],[45,59,49,60],[45,61,49,66],[47,1,48,8],[47,13,48,18],[47,9,48,12],[47,23,48,28],[47,19,48,22],[47,30,48,37],[45,1,46,8],[45,13,46,18],[45,9,46,12],[45,23,46,28],[45,19,46,22],[45,30,46,37],[45,42,46,47],[45,38,46,41],[49,9,50,12],[49,23,50,28],[49,19,50,22],[49,30,50,37],[50,59,54,60],[50,61,54,66],[40,59,44,60],[40,61,44,66],[43,1,44,8],[43,13,44,18],[43,9,44,12],[43,23,44,28],[43,19,44,22],[43,30,44,37],[43,42,44,47],[43,38,44,41],[43,52,44,57],[43,48,44,51],[40,1,41,4],[40,5,41,22],[40,23,41,28],[40,29,41,31],[40,32,41,38],[40,39,41,46],[40,47,41,57],[38,39,39,46],[34,1,35,4],[34,5,35,22],[34,23,35,28],[34,29,35,31],[34,32,35,38],[34,39,35,46],[28,47,29,57],[30,47,31,57],[38,47,39,57],[30,59,34,60],[30,61,34,66],[32,1,33,4],[32,5,33,22],[32,23,33,28],[32,29,33,31],[32,32,33,38],[32,39,33,46],[32,47,33,57],[30,1,31,4],[30,5,31,22],[30,23,31,28],[30,29,31,31],[30,32,31,38],[30,39,31,46],[34,47,35,57],[35,59,39,60],[35,61,39,66],[36,1,37,4],[36,5,37,22],[36,23,37,28],[36,29,37,31],[36,39,37,46],[36,47,37,57],[17,59,22,60],[17,61,19,64],[24,29,25,31],[24,32,25,38],[24,39,25,46],[24,47,25,57],[24,59,29,66],[26,1,27,4],[26,5,27,22],[26,23,27,28],[26,29,27,31],[26,32,27,38],[26,39,27,46],[26,47,27,57],[28,1,29,4],[28,5,29,22],[28,23,29,28],[28,29,29,31],[28,32,29,38],[28,39,29,46],[17,65,22,66],[19,6,20,13],[19,14,20,21],[20,61,22,64],[15,1,16,4],[15,5,16,21],[15,22,16,25],[15,26,15,41],[15,42,15,57],[16,26,22,41],[16,42,22,57],[17,1,20,4],[17,6,18,13],[17,14,18,21],[17,5,18,5],[19,5,20,5],[11,65,16,66],[11,1,14,4],[11,5,12,21],[11,22,14,25],[11,26,12,26],[13,5,14,21],[13,26,14,26],[21,1,22,4],[21,5,22,5],[21,6,22,25],[13,33,14,41],[13,45,13,48],[13,49,14,57],[14,27,14,32],[14,46,14,47],[14,61,16,64],[11,42,14,44],[11,45,11,48],[11,49,12,57],[11,59,16,60],[11,61,13,64],[12,46,12,47],[11,27,11,32],[11,33,12,41],[12,27,12,32],[13,27,13,32],[7,49,8,57],[8,43,8,48],[8,61,10,64],[9,49,10,57],[5,49,6,57],[5,59,10,60],[5,61,7,64],[2,53,3,66],[5,1,6,6],[5,7,6,12],[5,13,6,18],[5,19,6,23],[5,26,6,26],[5,27,6,32],[5,33,6,41],[5,42,6,42],[5,43,6,48],[5,65,10,66],[6,24,6,25],[9,26,10,26],[9,27,9,32],[9,33,10,41],[9,42,10,42],[9,43,9,48],[10,27,10,32],[10,43,10,48],[7,33,8,41],[7,42,8,42],[7,43,7,48],[0,2,1,3],[0,5,1,12],[0,14,1,16],[0,28,1,39],[2,1,3,4],[2,5,3,23],[7,1,10,4],[7,5,8,21],[7,22,10,25],[7,26,8,26],[7,27,8,32],[9,5,10,21]]}
[null,null,"株式\n会社",null,null,"田中組",null,null,null,null,null,null,null,null,"御中",null,null,null,null,null,null,null,null,null,null,null,null,null,"請求書",null,null,null,null,null,null,null,null,null,null,null,null,null,null,null,null,null,null,null,null,null,null,null,null,null,null,null,null,null,null,null,null,null,null,null,null,null,"作　業　所　控"]
[]
[null,"作業所名：",null,null,null,{"$f":"IF(入力シート!B3=0,\" \",入力シート!B3)","v":" "},null,null,null,null,null,null,null,null,null,null,null,null,null,null,null,null,null,null,null,null,null,null,null,null,null,null,null,null,null,null,null,null,null,null,null,null,null,null,null,null,null,null,null,null,null,null,null,{"$f":"IF(入力シート!D2=0,\" \",入力シート!D2)","v":"令和〇〇年〇〇月〇〇日"}]
[]
[]
[null,"取引先CD",null,null,null,null,null,{"$f":"IF(入力シート!B4=0,\" \",入力シート!B4)","v":" "},null,null,null,null,null,"工　事　C　D",null,null,null,null,null,null,null,null,null,null,null,null,"④","請求金額",null,null,null,null,null,{"$f":"入力シート!D4","v":0},null,null,null,null,null,null,null,null,"⑤","今月立替金",null,null,null,null,null,{"$f":"入力シート!D9","v":0},null,null,null,null,null,null,null,null,null,"請求区分",null,"本支店払１"]
[]
[null,"(登録番号)\n\n（住所）",null,null,null,{"$f":"IF(入力シート!B5=0,\" \",\"T\"&入力シート!B5)","v":" "},null,null,null,null,null,null,null,null,null,null,null,null,null,null,null,null,{"$f":"IF(入力シート!B6=0,\" \",\"免\")","v":" "},null,null,null,"①","契約金額",null,null,null,null,null,{"$f":"入力シート!D5","v":0},null,null,null,null,null,null,null,null,"⑥","差引当月④－⑤",null,null,null,null,null,{"$f":"入力シート!D10","v":0}]
[null,null,null,null,null,null,null,null,null,null,null,null,null,null,null,null,null,null,null,null,null,null,null,null,null,null,null,null,null,null,null,null,null,null,null,null,null,null,null,null,null,null,null,"請求額",null,null,null,null,null,null,null,null,null,null,null,null,null,null,null,null,null,"その他空白"]
[null,null,null,null,null,{"$f":"IF(入力シート!B7=0,\" \",入力シート!B7)","v":" "},null,null,null,null,null,null,null,null,null,null,null,null,null,null,null,null,null,null,null,null,"②","今月迄の",null,null,null,null,null,{"$f":"入力シート!D6","v":0},null,null,null,null,null,null,null,null,"⑦","今後①－③－④",null,null,null,null,null,{"$f":"入力シート!D11","v":0}]
[null,null,null,null,null,null,null,null,null,null,null,null,null,null,null,null,null,null,null,null,null,null,null,null,null,null,null,"出来高金額",null,null,null,null,null,null,null,null,null,null,null,null,null,null,null,"請求残額"]
[null,"（名称）",null,null,null,{"$f":"IF(入力シート!B8=0,\" \",入力シート!B8)","v":" "},null,null,null,null,null,null,null,null,null,null,null,null,null,null,null,null,"㊞",null,null,null,"③","現在迄の",null,null,null,null,null,{"$f":"入力シート!D7","v":0},null,null,null,null,null,null,null,null,"支払\n条件",null,null,"手形払",null,null,null,null,null,null,null,null,null,null,null,null,null,"消費税区分",null,"非課税 １"]
[null,null,null,null,null,null,null,null,null,null,null,null,null,null,null,null,null,null,null,null,null,null,null,null,null,null,null,"受領額",null,null,null,null,null,null,null,null,null,null,null,null,null,null,null,null,null,"（","      %",null,"）"]
[null,null,null,null,null,{"$f":"IF(入力シート!B9=0,\" \",入力シート!B9)","v":" "},null,null,null,null,null,null,null,null,null,null,null,null,null,null,null,null,null,null,null,null,"④","今月の②－③",null,null,null,null,null,{"$f":"入力シート!D8","v":0},null,null,null,null,null,null,null,null,null,null,null,"現金払"]
[null,null,null,null,null,null,null,null,null,null,null,null,null,null,null,null,null,null,null,null,null,null,null,null,null,null,null,"請求金額",null,null,null,null,null,null,null,null,null,null,null,null,null,null,null,null,null,"（","      %",null,"）",null,null,null,null,null,null,null,null,null,null,null,null,"課税空白"]
[null,"(TEL)",null,null,null,{"$f":"IF(入力シート!B10=0,\" \",入力シート!B10)","v":" "},null,null,null,null,null,null,null,null,null,null,null,null,null,null,null,null,null,null,null,null,"＜工務・経理使用欄＞",null,null,null,null,null,null,null,null,null,null,null,null,null,null,null,"＜作業所使用欄＞"]
[]
[null,"(振込銀行)",null,null,null,null,{"$f":"IF(入力シート!B11=0,\" \",入力シート!B11)","v":" "},null,null,null,null,null,null,null,{"$f":"IF(入力シート!B12=0,\" \",入力シート!B12)","v":" "},null,null,null,null,null,null,null,null,null,null,null,null,null,null,null,null,null,null,null,null,null,null,null,null,null,null,null,null,null,null,null,null,null,null,null,null,null,null,null,null,null,null,null,null,"保留区分",null,"する１"]
[]
[null,null,null,null,null,null,{"$f":"IF(入力シート!B13=0,\" \",入力シート!B13)","v":" "},null,null,null,null,null,null,null,{"$f":"IF(入力シート!B14=0,\" \",入力シート!B14)","v":" "}]
[null,null,null,null,null,null,null,null,null,null,null,null,null,null,null,null,null,null,null,null,null,null,null,null,null,null,null,null,null,null,null,null,null,null,null,null,null,null,null,null,null,null,null,null,null,null,null,null,null,null,null,null,null,null,null,null,null,null,null,null,null,"その他空白"]
[null,"ﾌﾘｶﾞﾅ\n口座名",null,null,null,null,{"$f":"IF(入力シート!B15=0,\" \",入力シート!B15)","v":" "}]
[]
[]
[null,"月　日",null,null,null,"品名・規格",null,null,null,null,null,null,null,null,null,null,null,null,null,null,null,null,null,"数量",null,null,null,null,null,"単位",null,null,"単価",null,null,null,null,null,null,"金額",null,null,null,null,null,null,null,"備考"]
[]
[null,{"$f":"IF('提出者(控)'!B27:E28=0,\" \",'提出者(控)'!B27:E28)","v":" "},null,null,null,{"$f":"IF('提出者(控)'!F27:W28=0,\" \",'提出者(控)'!F27:W28)","v":" "},null,null,null,null,null,null,null,null,null,null,null,null,null,null,null,null,null,{"$f":"IF('提出者(控)'!X27:AC28=0,\" \",'提出者(控)'!X27:AC28)","v":1},null,null,null,null,null,{"$f":"IF('提出者(控)'!AD27:AF28=0,\" \",'提出者(控)'!AD27:AF28)","v":"式"},null,null,{"$f":"IF('提出者(控)'!AG27:AM28=0,\" \",'提出者(控)'!AG27:AM28)","v":" "},null,null,null,null,null,null,{"$f":"IF('提出者(控)'!AN27:AU28=0,\" \",'提出者(控)'!AN27:AU28)","v":" "},null,null,null,null,null,null,null,{"$f":"IF('提出者(控)'!AV27:BF28=0,\" \",'提出者(控)'!AV27:BF28)","v":" "}]
[]
[null,{"$f":"IF('提出者(控)'!B29:E30=0,\" \",'提出者(控)'!B29:E30)","v":" "},null,null,null,{"$f":"IF('提出者(控)'!F29:W30=0,\" \",'提出者(控)'!F29:W30)","v":" "},null,null,null,null,null,null,null,null,null,null,null,null,null,null,null,null,null,{"$f":"IF('提出者(控)'!X29:AC30=0,\" \",'提出者(控)'!X29:AC30)","v":" "},null,null,null,null,null,{"$f":"IF('提出者(控)'!AD29:AF30=0,\" \",'提出者(控)'!AD29:AF30)","v":" "},null,null,{"$f":"IF('提出者(控)'!AG29:AM30=0,\" \",'提出者(控)'!AG29:AM30)","v":" "},null,null,null,null,null,null,{"$f":"IF('提出者(控)'!AN29:AU30=0,\" \",'提出者(控)'!AN29:AU30)","v":" "},null,null,null,null,null,null,null,{"$f":"IF('提出者(控)'!AV29:BF30=0,\" \",'提出者(控)'!AV29:BF30)","v":" "}]
[]
[null,{"$f":"IF('提出者(控)'!B31:E32=0,\" \",'提出者(控)'!B31:E32)","v":" "},null,null,null,{"$f":"IF('提出者(控)'!F31:W32=0,\" \",'提出者(控)'!F31:W32)","v":" "},null,null,null,null,null,null,null,null,null,null,null,null,null,null,null,null,null,{"$f":"IF('提出者(控)'!X31:AC32=0,\" \",'提出者(控)'!X31:AC32)","v":" "},null,null,null,null,null,{"$f":"IF('提出者(控)'!AD31:AF32=0,\" \",'提出者(控)'!AD31:AF32)","v":" "},null,null,{"$f":"IF('提出者(控)'!AG31:AM32=0,\" \",'提出者(控)'!AG31:AM32)","v":" "},null,null,null,null,null,null,{"$f":"IF('提出者(控)'!AN31:AU32=0,\" \",'提出者(控)'!AN31:AU32)","v":" "},null,null,null,null,null,null,null,{"$f":"IF('提出者(控)'!AV31:BF32=0,\" \",'提出者(控)'!AV31:BF32)","v":" "},null,null,null,null,null,null,null,null,null,null,null,"経理"]
[]
[null,{"$f":"IF('提出者(控)'!B33:E34=0,\" \",'提出者(控)'!B33:E34)","v":" "},null,null,null,{"$f":"IF('提出者(控)'!F33:W34=0,\" \",'提出者(控)'!F33:W34)","v":" "},null,null,null,null,null,null,null,null,null,null,null,null,null,null,null,null,null,{"$f":"IF('提出者(控)'!X33:AC34=0,\" \",'提出者(控)'!X33:AC34)","v":" "},null,null,null,null,null,{"$f":"IF('提出者(控)'!AD33:AF34=0,\" \",'提出者(控)'!AD33:AF34)","v":" "},null,null,{"$f":"IF('提出者(控)'!AG33:AM34=0,\" \",'提出者(控)'!AG33:AM34)","v":" "},null,null,null,null,null,null,{"$f":"IF('提出者(控)'!AN33:AU34=0,\" \",'提出者(控)'!AN33:AU34)","v":" "},null,null,null,null,null,null,null,{"$f":"IF('提出者(控)'!AV33:BF34=0,\" \",'提出者(控)'!AV33:BF34)","v":" "}]
[]
[null,{"$f":"IF('提出者(控)'!B35:E36=0,\" \",'提出者(控)'!B35:E36)","v":" "},null,null,null,{"$f":"IF('提出者(控)'!F35:W36=0,\" \",'提出者(控)'!F35:W36)","v":" "},null,null,null,null,null,null,null,null,null,null,null,null,null,null,null,null,null,{"$f":"IF('提出者(控)'!X35:AC36=0,\" \",'提出者(控)'!X35:AC36)","v":" "},null,null,null,null,null,{"$f":"IF('提出者(控)'!AD35:AF36=0,\" \",'提出者(控)'!AD35:AF36)","v":" "},null,null,{"$f":"IF('提出者(控)'!AG35:AM36=0,\" \",'提出者(控)'!AG35:AM36)","v":" "},null,null,null,null,null,null,{"$f":"IF('提出者(控)'!AN35:AU36=0,\" \",'提出者(控)'!AN35:AU36)","v":" "},null,null,null,null,null,null,null,{"$f":"IF('提出者(控)'!AV35:BF36=0,\" \",'提出者(控)'!AV35:BF36)","v":" "}]
[null,null,null,null,null,null,null,null,null,null,null,null,null,null,null,null,null,null,null,null,null,null,null,null,null,null,null,null,null,null,null,null,null,null,null,null,null,null,null,null,null,null,null,null,null,null,null,null,null,null,null,null,null,null,null,null,null,null,null,"工務"]
[null,{"$f":"IF('提出者(控)'!B37:E38=0,\" \",'提出者(控)'!B37:E38)","v":" "},null,null,null,{"$f":"IF('提出者(控)'!F37:W38=0,\" \",'提出者(控)'!F37:W38)","v":"合計"},null,null,null,null,null,null,null,null,null,null,null,null,null,null,null,null,null,{"$f":"IF('提出者(控)'!X37:AC38=0,\" \",'提出者(控)'!X37:AC38)","v":" "},null,null,null,null,null,{"$f":"IF('提出者(控)'!AD37:AF38=0,\" \",'提出者(控)'!AD37:AF38)","v":" "},null,null,{"$f":"IF('提出者(控)'!AG37:AM38=0,\" \",'提出者(控)'!AG37:AM38)","v":" "},null,null,null,null,null,null,{"$f":"IF('提出者(控)'!AN37:AU38=0,\" \",'提出者(控)'!AN37:AU38)","v":" "},null,null,null,null,null,null,null,{"$f":"IF('提出者(控)'!AV37:BF38=0,\" \",'提出者(控)'!AV37:BF38)","v":"（税抜金額）"}]
[]
[null,{"$f":"IF('提出者(控)'!B39:E40=0,\" \",'提出者(控)'!B39:E40)","v":" "},null,null,null,{"$f":"IF('提出者(控)'!F39:W40=0,\" \",'提出者(控)'!F39:W40)","v":"消費税"},null,null,null,null,null,null,null,null,null,null,null,null,null,null,null,null,null,{"$f":"IF('提出者(控)'!X39:AC40=0,\" \",'提出者(控)'!X39:AC40)","v":" "},null,null,null,null,null,{"$f":"IF('提出者(控)'!AD39:AF40=0,\" \",'提出者(控)'!AD39:AF40)","v":"％"},null,null,{"$f":"IF('提出者(控)'!AG39:AM40=0,\" \",'提出者(控)'!AG39:AM40)","v":" "},null,null,null,null,null,null,{"$f":"IF('提出者(控)'!AN39:AU40=0,\" \",'提出者(控)'!AN39:AU40)","v":" "},null,null,null,null,null,null,null,{"$f":"IF('提出者(控)'!AV39:BF40=0,\" \",'提出者(控)'!AV39:BF40)","v":"（消費税額）"}]
[]
[null,{"$f":"IF('提出者(控)'!B41:E42=0,\" \",'提出者(控)'!B41:E42)","v":" "},null,null,null,{"$f":"IF('提出者(控)'!F41:W42=0,\" \",'提出者(控)'!F41:W42)","v":"今月請求額"},null,null,null,null,null,null,null,null,null,null,null,null,null,null,null,null,null,{"$f":"IF('提出者(控)'!X41:AC42=0,\" \",'提出者(控)'!X41:AC42)","v":" "},null,null,null,null,null,{"$f":"IF('提出者(控)'!AD41:AF42=0,\" \",'提出者(控)'!AD41:AF42)","v":" "},null,null,{"$f":"IF('提出者(控)'!AG41:AM42=0,\" \",'提出者(控)'!AG41:AM42)","v":" "},null,null,null,null,null,null,{"$f":"IF('提出者(控)'!AN41:AU42=0,\" \",'提出者(控)'!AN41:AU42)","v":" "},null,null,null,null,null,null,null,{"$f":"IF('提出者(控)'!AV41:BF42=0,\" \",'提出者(控)'!AV41:BF42)","v":"（税込金額）"},null,null,null,null,null,null,null,null,null,null,null,"店所"]
[]
[]
[null,"金額",null,null,null,null,null,null,null,"費目CD",null,null,null,"費目名",null,null,null,null,null,"工種CD",null,null,null,"工種名",null,null,null,null,null,null,"金額",null,null,null,null,null,null,null,"費目CD",null,null,null,"費目名",null,null,null,null,null,"工種CD",null,null,null,"工種名"]
[]
[null,null,null,null,null,null,null,null,null,null,null,null,null,{"$f":"IF(J46=0,\" \",VLOOKUP(J46,#REF!,2,FALSE))","v":" "},null,null,null,null,null,null,null,null,null,{"$f":"IF(T46=0,\" \",VLOOKUP(T46,#REF!,2,FALSE))","v":" "},null,null,null,null,null,null,null,null,null,null,null,null,null,null,null,null,null,null,{"$f":"IF(AM46=0,\" \",VLOOKUP(AM46,#REF!,2,FALSE))","v":" "},null,null,null,null,null,null,null,null,null,{"$f":"IF(AW46=0,\" \",VLOOKUP(AW46,#REF!,2,FALSE))","v":" "},null,null,null,null,null,null,"工事長"]
[]
[null,null,null,null,null,null,null,null,null,null,null,null,null,{"$f":"IF(J48=0,\" \",VLOOKUP(J48,#REF!,2,FALSE))","v":" "},null,null,null,null,null,null,null,null,null,{"$f":"IF(T48=0,\" \",VLOOKUP(T48,#REF!,2,FALSE))","v":" "},null,null,null,null,null,null,null,null,null,null,null,null,null,null,null,null,null,null,{"$f":"IF(AM48=0,\" \",VLOOKUP(AM48,#REF!,2,FALSE))","v":" "},null,null,null,null,null,null,null,null,null,{"$f":"IF(AW48=0,\" \",VLOOKUP(AW48,#REF!,2,FALSE))","v":" "}]
[]
[null,null,null,null,null,null,null,null,null,null,null,null,null,{"$f":"IF(J50=0,\" \",VLOOKUP(J50,#REF!,2,FALSE))","v":" "},null,null,null,null,null,null,null,null,null,{"$f":"IF(T50=0,\" \",VLOOKUP(T50,#REF!,2,FALSE))","v":" "},null,null,null,null,null,null,null,null,null,null,null,null,null,null,null,null,null,null,{"$f":"IF(AM50=0,\" \",VLOOKUP(AM50,#REF!,2,FALSE))","v":" "},null,null,null,null,null,null,null,null,null,{"$f":"IF(AW50=0,\" \",VLOOKUP(AW50,#REF!,2,FALSE))","v":" "}]
[null,null,null,null,null,null,null,null,null,null,null,null,null,null,null,null,null,null,null,null,null,null,null,null,null,null,null,null,null,null,null,null,null,null,null,null,null,null,null,null,null,null,null,null,null,null,null,null,null,null,null,null,null,null,null,null,null,null,null,"作業所長"]
[null,null,null,null,null,null,null,null,null,null,null,null,null,{"$f":"IF(J52=0,\" \",VLOOKUP(J52,#REF!,2,FALSE))","v":" "},null,null,null,null,null,null,null,null,null,{"$f":"IF(T52=0,\" \",VLOOKUP(T52,#REF!,2,FALSE))","v":" "},null,null,null,null,null,null,null,null,null,null,null,null,null,null,null,null,null,null,{"$f":"IF(AM52=0,\" \",VLOOKUP(AM52,#REF!,2,FALSE))","v":" "},null,null,null,null,null,null,null,null,null,{"$f":"IF(AW52=0,\" \",VLOOKUP(AW52,#REF!,2,FALSE))","v":" "}]
[]
[null,null,null,null,null,null,null,null,null,null,null,null,null,{"$f":"IF(J54=0,\" \",VLOOKUP(J54,#REF!,2,FALSE))","v":" "},null,null,null,null,null,null,null,null,null,{"$f":"IF(T54=0,\" \",VLOOKUP(T54,#REF!,2,FALSE))","v":" "},null,null,null,null,null,null,null,null,null,null,null,null,null,null,null,null,null,null,{"$f":"IF(AM54=0,\" \",VLOOKUP(AM54,#REF!,2,FALSE))","v":" "},null,null,null,null,null,null,null,null,null,{"$f":"IF(AW54=0,\" \",VLOOKUP(AW54,#REF!,2,FALSE))","v":" "}]

{"sheet":"経理","index":3,"n_rows":51,"n_cols":67,"rows_kept":51,"cut":false,"hidden":false,"merged":[[0,2,1,3],[0,5,1,12],[0,14,1,16],[0,28,1,39],[2,1,3,4],[2,5,3,23],[7,1,10,4],[7,5,8,21],[7,22,10,25],[7,26,8,26],[7,27,8,32],[9,5,10,21],[2,53,3,66],[5,1,6,6],[5,7,6,12],[5,13,6,18],[5,19,6,23],[5,26,6,26],[5,27,6,32],[5,33,6,41],[5,42,6,42],[5,43,6,48],[7,49,8,57],[8,43,8,48],[8,61,10,64],[9,49,10,57],[5,49,6,57],[5,59,10,60],[5,61,7,64],[5,65,10,66],[6,24,6,25],[9,26,10,26],[9,27,9,32],[9,33,10,41],[9,42,10,42],[9,43,9,48],[10,27,10,32],[10,43,10,48],[7,33,8,41],[7,42,8,42],[7,43,7,48],[13,33,14,41],[13,45,13,48],[13,49,14,57],[14,27,14,32],[14,46,14,47],[14,61,16,64],[11,42,14,44],[11,45,11,48],[11,49,12,57],[11,59,16,60],[11,61,13,64],[12,46,12,47],[11,27,11,32],[11,33,12,41],[12,27,12,32],[13,27,13,32],[17,61,19,64],[17,65,22,66],[19,5,20,5],[19,6,20,13],[19,14,20,21],[20,61,22,64],[15,1,16,4],[15,5,16,21],[15,22,16,25],[15,26,15,41],[15,42,15,57],[16,26,22,41],[16,42,22,57],[17,1,20,4],[17,5,18,5],[17,6,18,13],[11,65,16,66],[11,1,14,4],[11,5,12,21],[11,22,14,25],[11,26,12,26],[13,5,14,21],[13,26,14,26],[21,1,22,4],[21,5,22,5],[21,6,22,25],[24,1,25,4],[24,5,25,22],[24,23,25,28],[17,14,18,21],[17,22,20,25],[17,59,22,60],[24,29,25,31],[24,32,25,38],[24,39,25,46],[24,47,25,57],[24,59,29,66],[26,1,27,4],[26,5,27,22],[26,23,27,28],[26,29,27,31],[26,32,27,38],[26,39,27,46],[26,47,27,57],[28,1,29,4],[28,5,29,22],[28,23,29,28],[28,29,29,31],[28,32,29,38],[28,39,29,46],[28,47,29,57],[30,47,31,57],[30,59,34,60],[30,61,34,66],[32,1,33,4],[32,5,33,22],[32,23,33,28],[32,29,33,31],[32,32,33,38],[32,39,33,46],[32,47,33,57],[30,1,31,4],[30,5,31,22],[30,23,31,28],[30,29,31,31],[30,32,31,38],[30,39,31,46],[34,47,35,57],[35,59,39,60],[35,61,39,66],[36,1,37,4],[36,5,37,22],[36,23,37,28],[36,29,37,31],[36,32,37,38],[36,39,37,46],[36,47,37,57],[34,1,35,4],[34,5,35,22],[34,23,35,28],[34,29,35,31],[34,32,35,38],[34,39,35,46],[38,47,39,57],[40,1,41,4],[40,5,41,22],[40,23,41,28],[40,29,41,31],[40,32,41,38],[40,39,41,46],[40,47,41,57],[38,1,39,4],[38,5,39,22],[38,23,39,28],[38,29,39,31],[38,32,39,38],[38,39,39,46],[40,59,44,60],[40,61,44,66],[43,1,44,8],[43,9,44,12],[43,13,44,18],[43,19,44,22],[43,23,44,28],[43,30,44,37],[43,38,44,41],[43,42,44,47],[43,48,44,51],[43,52,44,57],[45,1,46,8],[45,9,46,12],[45,13,46,18],[45,19,46,22],[45,23,46,28],[45,30,46,37],[45,38,46,41],[45,42,46,47],[45,48,46,51],[45,52,46,57],[45,59,49,60],[45,61,49,66],[47,1,48,8],[47,9,48,12],[47,13,48,18],[47,19,48,22],[47,23,48,28],[47,30,48,37],[49,52,50,57],[50,59,54,60],[50,61,54,66],[51,38,52,41],[51,42,52,47],[51,48,52,51],[51,52,52,57],[47,38,48,41],[47,42,48,47],[47,48,48,51],[47,52,48,57],[51,1,52,8],[51,9,52,12],[51,13,52,18],[51,19,52,22],[51,23,52,28],[51,30,52,37],[49,38,50,41],[49,42,50,47],[49,48,50,51],[49,1,50,8],[49,9,50,12],[49,13,50,18],[49,19,50,22],[49,23,50,28],[49,30,50,37],[53,38,54,41],[53,42,54,47],[53,48,54,51],[53,52,54,57],[53,1,54,8],[53,9,54,12],[53,13,54,18],[53,19,54,22],[53,23,54,28],[53,30,54,37]]}
[null,null,"株式\n会社",null,null,"田中組",null,null,null,null,null,null,null,null,"御中",null,null,null,null,null,null,null,null,null,null,null,null,null,"請求書",null,null,null,null,null,null,null,null,null,null,null,null,null,null,null,null,null,null,null,null,null,null,null,null,null,null,null,null,null,null,null,null,null,null,null,null,null,"経　理　課　用"]
[]
[null,"作業所名：",null,null,null,{"$f":"IF(入力シート!B3=0,\" \",入力シート!B3)","v":" "},null,null,null,null,null,null,null,null,null,null,null,null,null,null,null,null,null,null,null,null,null,null,null,null,null,null,null,null,null,null,null,null,null,null,null,null,null,null,null,null,null,null,null,null,null,null,null,{"$f":"IF(入力シート!D2=0,\" \",入力シート!D2)","v":"令和〇〇年〇〇月〇〇日"}]
[]
[]
[null,"取引先CD",null,null,null,null,null,{"$f":"IF(入力シート!B4=0,\" \",入力シート!B4)","v":" "},null,null,null,null,null,"工　事　C　D",null,null,null,null,null,null,null,null,null,null,null,null,"④","請求金額",null,null,null,null,null,{"$f":"入力シート!D4","v":0},null,null,null,null,null,null,null,null,"⑤","今月立替金",null,null,null,null,null,{"$f":"入力シート!D9","v":0},null,null,null,null,null,null,null,null,null,"請求区分",null,"本支店払１",null,null,null,{"$f":"IF('作業所 '!BN6:BO11=0,\" \",'作業所 '!BN6:BO11)","v":" "}]
[]
[null,"(登録番号)\n\n（住所）",null,null,null,{"$f":"IF(入力シート!B5=0,\" \",\"T\"&入力シート!B5)","v":" "},null,null,null,null,null,null,null,null,null,null,null,null,null,null,null,null,{"$f":"IF(入力シート!B6=0,\" \",\"免\")","v":" "},null,null,null,"①","契約金額",null,null,null,null,null,{"$f":"入力シート!D5","v":0},null,null,null,null,null,null,null,null,"⑥","差引当月④－⑤",null,null,null,null,null,{"$f":"入力シート!D10","v":0}]
[null,null,null,null,null,null,null,null,null,null,null,null,null,null,null,null,null,null,null,null,null,null,null,null,null,null,null,null,null,null,null,null,null,null,null,null,null,null,null,null,null,null,null,"請求額",null,null,null,null,null,null,null,null,null,null,null,null,null,null,null,null,null,"その他空白"]
[null,null,null,null,null,{"$f":"IF(入力シート!B7=0,\" \",入力シート!B7)","v":" "},null,null,null,null,null,null,null,null,null,null,null,null,null,null,null,null,null,null,null,null,"②","今月迄の",null,null,null,null,null,{"$f":"入力シート!D6","v":0},null,null,null,null,null,null,null,null,"⑦","今後①－③－④",null,null,null,null,null,{"$f":"入力シート!D11","v":0}]
[null,null,null,null,null,null,null,null,null,null,null,null,null,null,null,null,null,null,null,null,null,null,null,null,null,null,null,"出来高金額",null,null,null,null,null,null,null,null,null,null,null,null,null,null,null,"請求残額"]
[null,"（名称）",null,null,null,{"$f":"IF(入力シート!B8=0,\" \",入力シート!B8)","v":" "},null,null,null,null,null,null,null,null,null,null,null,null,null,null,null,null,"㊞",null,null,null,"③","現在迄の",null,null,null,null,null,{"$f":"入力シート!D7","v":0},null,null,null,null,null,null,null,null,"支払\n条件",null,null,"手形払",null,null,null,null,null,null,null,null,null,null,null,null,null,"消費税区分",null,"非課税 １",null,null,null,{"$f":"IF('作業所 '!BN12:BO17=0,\" \",'作業所 '!BN12:BO17)","v":" "}]
[null,null,null,null,null,null,null,null,null,null,null,null,null,null,null,null,null,null,null,null,null,null,null,null,null,null,null,"受領額",null,null,null,null,null,null,null,null,null,null,null,null,null,null,null,null,null,"（",{"$f":"'作業所 '!AU13:AV13","v":"      %"},null,"）"]
[null,null,null,null,null,{"$f":"IF(入力シート!B9=0,\" \",入力シート!B9)","v":" "},null,null,null,null,null,null,null,null,null,null,null,null,null,null,null,null,null,null,null,null,"④","今月の②－③",null,null,null,null,null,{"$f":"入力シート!D8","v":0},null,null,null,null,null,null,null,null,null,null,null,"現金払"]
[null,null,null,null,null,null,null,null,null,null,null,null,null,null,null,null,null,null,null,null,null,null,null,null,null,null,null,"請求金額",null,null,null,null,null,null,null,null,null,null,null,null,null,null,null,null,null,"（",{"$f":"'作業所 '!AU15:AV15","v":"      %"},null,"）",null,null,null,null,null,null,null,null,null,null,null,null,"課税空白"]
[null,"(TEL)",null,null,null,{"$f":"IF(入力シート!B10=0,\" \",入力シート!B10)","v":" "},null,null,null,null,null,null,null,null,null,null,null,null,null,null,null,null,null,null,null,null,"＜工務・経理使用欄＞",null,null,null,null,null,null,null,null,null,null,null,null,null,null,null,"＜作業所使用欄＞"]
[null,null,null,null,null,null,null,null,null,null,null,null,null,null,null,null,null,null,null,null,null,null,null,null,null,null,{"$f":"IF('作業所 '!AA17:AP23=0,\" \",'作業所 '!AA17:AP23)","v":" "},null,null,null,null,null,null,null,null,null,null,null,null,null,null,null,{"$f":"IF('作業所 '!AQ17:BF23=0,\" \",'作業所 '!AQ17:BF23)","v":" "}]
[null,"(振込銀行)",null,null,null,null,{"$f":"IF(入力シート!B11=0,\" \",入力シート!B11)","v":" "},null,null,null,null,null,null,null,{"$f":"IF(入力シート!B12=0,\" \",入力シート!B12)","v":" "},null,null,null,null,null,null,null,null,null,null,null,null,null,null,null,null,null,null,null,null,null,null,null,null,null,null,null,null,null,null,null,null,null,null,null,null,null,null,null,null,null,null,null,null,"保留区分",null,"する１",null,null,null,{"$f":"IF('作業所 '!BN18:BO23=0,\" \",'作業所 '!BN18:BO23)","v":" "}]
[]
[null,null,null,null,null,null,{"$f":"IF(入力シート!B13=0,\" \",入力シート!B13)","v":" "},null,null,null,null,null,null,null,{"$f":"IF(入力シート!B14=0,\" \",入力シート!B14)","v":" "}]
[null,null,null,null,null,null,null,null,null,null,null,null,null,null,null,null,null,null,null,null,null,null,null,null,null,null,null,null,null,null,null,null,null,null,null,null,null,null,null,null,null,null,null,null,null,null,null,null,null,null,null,null,null,null,null,null,null,null,null,null,null,"その他空白"]
[null,"ﾌﾘｶﾞﾅ\n口座名",null,null,null,null,{"$f":"IF(入力シート!B15=0,\" \",入力シート!B15)","v":" "}]
[]
[]
[null,"月　日",null,null,null,"品名・規格",null,null,null,null,null,null,null,null,null,null,null,null,null,null,null,null,null,"数量",null,null,null,null,null,"単位",null,null,"単価",null,null,null,null,null,null,"金額",null,null,null,null,null,null,null,"備考"]
[]
[null,{"$f":"IF('提出者(控)'!B27:E28=0,\" \",'提出者(控)'!B27:E28)","v":" "},null,null,null,{"$f":"IF('提出者(控)'!F27:W28=0,\" \",'提出者(控)'!F27:W28)","v":" "},null,null,null,null,null,null,null,null,null,null,null,null,null,null,null,null,null,{"$f":"IF('提出者(控)'!X27:AC28=0,\" \",'提出者(控)'!X27:AC28)","v":1},null,null,null,null,null,{"$f":"IF('提出者(控)'!AD27:AF28=0,\" \",'提出者(控)'!AD27:AF28)","v":"式"},null,null,{"$f":"IF('提出者(控)'!AG27:AM28=0,\" \",'提出者(控)'!AG27:AM28)","v":" "},null,null,null,null,null,null,{"$f":"IF('提出者(控)'!AN27:AU28=0,\" \",'提出者(控)'!AN27:AU28)","v":" "},null,null,null,null,null,null,null,{"$f":"IF('提出者(控)'!AV27:BF28=0,\" \",'提出者(控)'!AV27:BF28)","v":" "}]
[]
[null,{"$f":"IF('提出者(控)'!B29:E30=0,\" \",'提出者(控)'!B29:E30)","v":" "},null,null,null,{"$f":"IF('提出者(控)'!F29:W30=0,\" \",'提出者(控)'!F29:W30)","v":" "},null,null,null,null,null,null,null,null,null,null,null,null,null,null,null,null,null,{"$f":"IF('提出者(控)'!X29:AC30=0,\" \",'提出者(控)'!X29:AC30)","v":" "},null,null,null,null,null,{"$f":"IF('提出者(控)'!AD29:AF30=0,\" \",'提出者(控)'!AD29:AF30)","v":" "},null,null,{"$f":"IF('提出者(控)'!AG29:AM30=0,\" \",'提出者(控)'!AG29:AM30)","v":" "},null,null,null,null,null,null,{"$f":"IF('提出者(控)'!AN29:AU30=0,\" \",'提出者(控)'!AN29:AU30)","v":" "},null,null,null,null,null,null,null,{"$f":"IF('提出者(控)'!AV29:BF30=0,\" \",'提出者(控)'!AV29:BF30)","v":" "}]
[]
[null,{"$f":"IF('提出者(控)'!B31:E32=0,\" \",'提出者(控)'!B31:E32)","v":" "},null,null,null,{"$f":"IF('提出者(控)'!F31:W32=0,\" \",'提出者(控)'!F31:W32)","v":" "},null,null,null,null,null,null,null,null,null,null,null,null,null,null,null,null,null,{"$f":"IF('提出者(控)'!X31:AC32=0,\" \",'提出者(控)'!X31:AC32)","v":" "},null,null,null,null,null,{"$f":"IF('提出者(控)'!AD31:AF32=0,\" \",'提出者(控)'!AD31:AF32)","v":" "},null,null,{"$f":"IF('提出者(控)'!AG31:AM32=0,\" \",'提出者(控)'!AG31:AM32)","v":" "},null,null,null,null,null,null,{"$f":"IF('提出者(控)'!AN31:AU32=0,\" \",'提出者(控)'!AN31:AU32)","v":" "},null,null,null,null,null,null,null,{"$f":"IF('提出者(控)'!AV31:BF32=0,\" \",'提出者(控)'!AV31:BF32)","v":" "},null,null,null,null,null,null,null,null,null,null,null,"経理"]
[]
[null,{"$f":"IF('提出者(控)'!B33:E34=0,\" \",'提出者(控)'!B33:E34)","v":" "},null,null,null,{"$f":"IF('提出者(控)'!F33:W34=0,\" \",'提出者(控)'!F33:W34)","v":" "},null,null,null,null,null,null,null,null,null,null,null,null,null,null,null,null,null,{"$f":"IF('提出者(控)'!X33:AC34=0,\" \",'提出者(控)'!X33:AC34)","v":" "},null,null,null,null,null,{"$f":"IF('提出者(控)'!AD33:AF34=0,\" \",'提出者(控)'!AD33:AF34)","v":" "},null,null,{"$f":"IF('提出者(控)'!AG33:AM34=0,\" \",'提出者(控)'!AG33:AM34)","v":" "},null,null,null,null,null,null,{"$f":"IF('提出者(控)'!AN33:AU34=0,\" \",'提出者(控)'!AN33:AU34)","v":" "},null,null,null,null,null,null,null,{"$f":"IF('提出者(控)'!AV33:BF34=0,\" \",'提出者(控)'!AV33:BF34)","v":" "}]
[]
[null,{"$f":"IF('提出者(控)'!B35:E36=0,\" \",'提出者(控)'!B35:E36)","v":" "},null,null,null,{"$f":"IF('提出者(控)'!F35:W36=0,\" \",'提出者(控)'!F35:W36)","v":" "},null,null,null,null,null,null,null,null,null,null,null,null,null,null,null,null,null,{"$f":"IF('提出者(控)'!X35:AC36=0,\" \",'提出者(控)'!X35:AC36)","v":" "},null,null,null,null,null,{"$f":"IF('提出者(控)'!AD35:AF36=0,\" \",'提出者(控)'!AD35:AF36)","v":" "},null,null,{"$f":"IF('提出者(控)'!AG35:AM36=0,\" \",'提出者(控)'!AG35:AM36)","v":" "},null,null,null,null,null,null,{"$f":"IF('提出者(控)'!AN35:AU36=0,\" \",'提出者(控)'!AN35:AU36)","v":" "},null,null,null,null,null,null,null,{"$f":"IF('提出者(控)'!AV35:BF36=0,\" \",'提出者(控)'!AV35:BF36)","v":" "}]
[null,null,null,null,null,null,null,null,null,null,null,null,null,null,null,null,null,null,null,null,null,null,null,null,null,null,null,null,null,null,null,null,null,null,null,null,null,null,null,null,null,null,null,null,null,null,null,null,null,null,null,null,null,null,null,null,null,null,null,"工務"]
[null,{"$f":"IF('提出者(控)'!B37:E38=0,\" \",'提出者(控)'!B37:E38)","v":" "},null,null,null,{"$f":"IF('提出者(控)'!F37:W38=0,\" \",'提出者(控)'!F37:W38)","v":"合計"},null,null,null,null,null,null,null,null,null,null,null,null,null,null,null,null,null,{"$f":"IF('提出者(控)'!X37:AC38=0,\" \",'提出者(控)'!X37:AC38)","v":" "},null,null,null,null,null,{"$f":"IF('提出者(控)'!AD37:AF38=0,\" \",'提出者(控)'!AD37:AF38)","v":" "},null,null,{"$f":"IF('提出者(控)'!AG37:AM38=0,\" \",'提出者(控)'!AG37:AM38)","v":" "},null,null,null,null,null,null,{"$f":"IF('提出者(控)'!AN37:AU38=0,\" \",'提出者(控)'!AN37:AU38)","v":" "},null,null,null,null,null,null,null,{"$f":"IF('提出者(控)'!AV37:BF38=0,\" \",'提出者(控)'!AV37:BF38)","v":"（税抜金額）"}]
[]
[null,{"$f":"IF('提出者(控)'!B39:E40=0,\" \",'提出者(控)'!B39:E40)","v":" "},null,null,null,{"$f":"IF('提出者(控)'!F39:W40=0,\" \",'提出者(控)'!F39:W40)","v":"消費税"},null,null,null,null,null,null,null,null,null,null,null,null,null,null,null,null,null,{"$f":"IF('提出者(控)'!X39:AC40=0,\" \",'提出者(控)'!X39:AC40)","v":" "},null,null,null,null,null,{"$f":"IF('提出者(控)'!AD39:AF40=0,\" \",'提出者(控)'!AD39:AF40)","v":"％"},null,null,{"$f":"IF('提出者(控)'!AG39:AM40=0,\" \",'提出者(控)'!AG39:AM40)","v":" "},null,null,null,null,null,null,{"$f":"IF('提出者(控)'!AN39:AU40=0,\" \",'提出者(控)'!AN39:AU40)","v":" "},null,null,null,null,null,null,null,{"$f":"IF('提出者(控)'!AV39:BF40=0,\" \",'提出者(控)'!AV39:BF40)","v":"（消費税額）"}]
[]
[null,{"$f":"IF('提出者(控)'!B41:E42=0,\" \",'提出者(控)'!B41:E42)","v":" "},null,null,null,{"$f":"IF('提出者(控)'!F41:W42=0,\" \",'提出者(控)'!F41:W42)","v":"今月請求額"},null,null,null,null,null,null,null,null,null,null,null,null,null,null,null,null,null,{"$f":"IF('提出者(控)'!X41:AC42=0,\" \",'提出者(控)'!X41:AC42)","v":" "},null,null,null,null,null,{"$f":"IF('提出者(控)'!AD41:AF42=0,\" \",'提出者(控)'!AD41:AF42)","v":" "},null,null,{"$f":"IF('提出者(控)'!AG41:AM42=0,\" \",'提出者(控)'!AG41:AM42)","v":" "},null,null,null,null,null,null,{"$f":"IF('提出者(控)'!AN41:AU42=0,\" \",'提出者(控)'!AN41:AU42)","v":" "},null,null,null,null,null,null,null,{"$f":"IF('提出者(控)'!AV41:BF42=0,\" \",'提出者(控)'!AV41:BF42)","v":"（税込金額）"},null,null,null,null,null,null,null,null,null,null,null,"店所"]
[]
[]
[null,"金額",null,null,null,null,null,null,null,"費目CD",null,null,null,"費目名",null,null,null,null,null,"工種CD",null,null,null,"工種名",null,null,null,null,null,null,"金額",null,null,null,null,null,null,null,"費目CD",null,null,null,"費目名",null,null,null,null,null,"工種CD",null,null,null,"工種名"]
[]
[null,null,null,null,null,null,null,null,null,null,null,null,null,null,null,null,null,null,null,null,null,null,null,null,null,null,null,null,null,null,null,null,null,null,null,null,null,null,null,null,null,null,null,null,null,null,null,null,null,null,null,null,null,null,null,null,null,null,null,"工事長"]
[]
[]
[]
[]
[null,null,null,null,null,null,null,null,null,null,null,null,null,null,null,null,null,null,null,null,null,null,null,null,null,null,null,null,null,null,null,null,null,null,null,null,null,null,null,null,null,null,null,null,null,null,null,null,null,null,null,null,null,null,null,null,null,null,null,"作業所長"]